BEGIN:VCALENDAR
VERSION:2.0
PRODID:-//Town of Lincoln - ECPv6.15.17.1//NONSGML v1.0//EN
CALSCALE:GREGORIAN
METHOD:PUBLISH
X-WR-CALNAME:Town of Lincoln
X-ORIGINAL-URL:https://lincolnadamscountywi.gov
X-WR-CALDESC:Events for Town of Lincoln
REFRESH-INTERVAL;VALUE=DURATION:PT1H
X-Robots-Tag:noindex
X-PUBLISHED-TTL:PT1H
BEGIN:VTIMEZONE
TZID:America/Chicago
BEGIN:DAYLIGHT
TZOFFSETFROM:-0600
TZOFFSETTO:-0500
TZNAME:CDT
DTSTART:20240310T080000
END:DAYLIGHT
BEGIN:STANDARD
TZOFFSETFROM:-0500
TZOFFSETTO:-0600
TZNAME:CST
DTSTART:20241103T070000
END:STANDARD
BEGIN:DAYLIGHT
TZOFFSETFROM:-0600
TZOFFSETTO:-0500
TZNAME:CDT
DTSTART:20250309T080000
END:DAYLIGHT
BEGIN:STANDARD
TZOFFSETFROM:-0500
TZOFFSETTO:-0600
TZNAME:CST
DTSTART:20251102T070000
END:STANDARD
BEGIN:DAYLIGHT
TZOFFSETFROM:-0600
TZOFFSETTO:-0500
TZNAME:CDT
DTSTART:20260308T080000
END:DAYLIGHT
BEGIN:STANDARD
TZOFFSETFROM:-0500
TZOFFSETTO:-0600
TZNAME:CST
DTSTART:20261101T070000
END:STANDARD
END:VTIMEZONE
BEGIN:VEVENT
DTSTART;TZID=America/Chicago:20250501T133000
DTEND;TZID=America/Chicago:20250514T153000
DTSTAMP:20260423T065321
CREATED:20250418T154351Z
LAST-MODIFIED:20250418T154437Z
UID:728-1746106200-1747236600@lincolnadamscountywi.gov
SUMMARY:Board of Review-By Appt
DESCRIPTION:ZILLMER MIDSTATE ASSESSMENT\, LLC\nP.O. Box 535\nMarion\, WI 54950\nPhone: (715) 754-2287\nzillmermidstate@gmail.com \n1 \nINFORMATION FOR ASSESSMENT ROLLS/NOTICES \nYear: 2025 \nMunicipality: Town of Lincoln \nOpen Book: Date: 04/24/2025\nTime: 8-10am\nLocation: remotely via phone/email \nBoard of Review: Date: 05/01/2025\nTime: 1:30-3:30pm\nLocation: Town Hall\nSpecial Txt: BY APPT. ONLY \nClerk: Patti Nelson\n2205 4th Drive\nWestfield\, WI 53964\n608-369-4433 \nAssessor: Zillmer Midstate Assessment\, LLC\nP.O. Box 535\nMarion\, WI 54950\nPhone: (715) 754-2287\nEmail: zillmermidstate@gmail.com
URL:https://lincolnadamscountywi.gov/event/board-of-review-by-appt/
LOCATION:Lincoln Town Hall\, 2181 County Road G\, Grand Marsh\, WI\, 53936\, United States
END:VEVENT
BEGIN:VEVENT
DTSTART;TZID=America/Chicago:20250515T190000
DTEND;TZID=America/Chicago:20250515T210000
DTSTAMP:20260423T065321
CREATED:20250320T010641Z
LAST-MODIFIED:20250515T010643Z
UID:703-1747335600-1747342800@lincolnadamscountywi.gov
SUMMARY:May 2025 Town Board Meeting
DESCRIPTION:                                                         TOWN OF LINCOLN\nREGULAR TOWN BOARD MEETING                                                       Thursday May 15\, 2025The Regular Town Board Meeting will be held at the Lincoln Town Hall\, 2181 County Road G\,Thursday\, May 15\, 2025The Board Meeting agenda will include discussion and possible action on the following items; the Minutes\, Treasurer’s report; payment of bills\, Zoning Administrator’s report; zoning issues\, TransferSite issues\, correspondence\, road issues\, Ambulance Service\, Discuussion and possible action on enacting an ordinance in accordance with Wis Statutes 70.67(2) to exempt the town Treasurer from the tax bond requirement\, training or other opportunities for Clerk or Board Members. Discussion & possible action on opening road bids. Discussion & possible action on the Milestone Materials contract. Discussion & possible action on Short Term Rental roomtax. \n\n\n  Patricia D Nelson\, Clerk
URL:https://lincolnadamscountywi.gov/event/may-2025-town-board-meeting/
LOCATION:Lincoln Town Hall\, 2181 County Road G\, Grand Marsh\, WI\, 53936\, United States
END:VEVENT
END:VCALENDAR