BEGIN:VCALENDAR
VERSION:2.0
PRODID:-//Town of Lincoln - ECPv6.15.17.1//NONSGML v1.0//EN
CALSCALE:GREGORIAN
METHOD:PUBLISH
X-WR-CALNAME:Town of Lincoln
X-ORIGINAL-URL:https://lincolnadamscountywi.gov
X-WR-CALDESC:Events for Town of Lincoln
REFRESH-INTERVAL;VALUE=DURATION:PT1H
X-Robots-Tag:noindex
X-PUBLISHED-TTL:PT1H
BEGIN:VTIMEZONE
TZID:America/Chicago
BEGIN:DAYLIGHT
TZOFFSETFROM:-0600
TZOFFSETTO:-0500
TZNAME:CDT
DTSTART:20230312T080000
END:DAYLIGHT
BEGIN:STANDARD
TZOFFSETFROM:-0500
TZOFFSETTO:-0600
TZNAME:CST
DTSTART:20231105T070000
END:STANDARD
BEGIN:DAYLIGHT
TZOFFSETFROM:-0600
TZOFFSETTO:-0500
TZNAME:CDT
DTSTART:20240310T080000
END:DAYLIGHT
BEGIN:STANDARD
TZOFFSETFROM:-0500
TZOFFSETTO:-0600
TZNAME:CST
DTSTART:20241103T070000
END:STANDARD
BEGIN:DAYLIGHT
TZOFFSETFROM:-0600
TZOFFSETTO:-0500
TZNAME:CDT
DTSTART:20250309T080000
END:DAYLIGHT
BEGIN:STANDARD
TZOFFSETFROM:-0500
TZOFFSETTO:-0600
TZNAME:CST
DTSTART:20251102T070000
END:STANDARD
END:VTIMEZONE
BEGIN:VEVENT
DTSTART;TZID=America/Chicago:20241121T180000
DTEND;TZID=America/Chicago:20241121T190000
DTSTAMP:20260420T082856
CREATED:20241108T173911Z
LAST-MODIFIED:20241120T194223Z
UID:641-1732212000-1732215600@lincolnadamscountywi.gov
SUMMARY:Town of Lincoln Budget Meeting
DESCRIPTION:Town 2025 Budget Summary \n  \n\n\n TOWN OF LINCOLN\nBUDGET HEARING-SPECIAL MEETING OF TOWN ELECTORS\nIMMEDIATELY TO FOLLOW\nMONTHLY TOWN BOARD MEETING\nThursday\, November 21\, 2024\nAGENDA\nTOWN BUDGET HEARING\n• Pledge of Allegiance & Call to Order\n• Go line item by item on Proposed Budget – All in attendance should have copy.\n• Motion & Second to close the hearing.\nSPECIAL MEETING OF TOWN ELECTORS\nC Citizen’s approve the 2025 Highway Expenditures as amended in Budget Hearing or as is\nC Adopt the 2024 Town Levy to be paid in 2025.\nC Any other citizen input on any issue (this meeting does NOT require issue to be noticed.)\nC Motion & Second to adjourn the meeting.
URL:https://lincolnadamscountywi.gov/event/town-of-lincoln-budget-meeting/
LOCATION:Lincoln Town Hall\, 2181 County Road G\, Grand Marsh\, WI\, 53936\, United States
END:VEVENT
BEGIN:VEVENT
DTSTART;TZID=America/Chicago:20241121T190000
DTEND;TZID=America/Chicago:20241121T210000
DTSTAMP:20260420T082856
CREATED:20240816T024501Z
LAST-MODIFIED:20241120T194241Z
UID:514-1732215600-1732222800@lincolnadamscountywi.gov
SUMMARY:November 2024 Town Meeting
DESCRIPTION:MONTHLY TOWN BOARD MEETING\nAdopt the 2025 budget with any amendments or changes.\n• Minutes from October 17\, 2024 Town Board Meeting\n• Treasurer’s Report\n• Payment of bills\n• Zoning Administrator Report \nTransfer Site Issues \nCorrespondence:\n• Will pass around \nNew Business\n∙ Adopt the Town Levy\n∙ Discussion & possible action on Then New Chester Fire Department Contract \nOld Business:\n• Ambulance Service\n• Possible Board Members and Clerk training.\n• Discuss ongoing road issues.\n.\nCitizen input: \nAdjournment \nComing Up:\nNext Town Board Meeting: December 19\, @ 6PM\, 2024. Delmar Consultants are coming to speak.
URL:https://lincolnadamscountywi.gov/event/november-2024-town-meeting/
LOCATION:Lincoln Town Hall\, 2181 County Road G\, Grand Marsh\, WI\, 53936\, United States
END:VEVENT
BEGIN:VEVENT
DTSTART;TZID=America/Chicago:20241121T200000
DTEND;TZID=America/Chicago:20241121T203000
DTSTAMP:20260420T082856
CREATED:20241122T015730Z
LAST-MODIFIED:20241122T015730Z
UID:651-1732219200-1732221000@lincolnadamscountywi.gov
SUMMARY:NOTICE Resolution 07-24\, Town of Lincoln to exceed the Levy Limit
DESCRIPTION:Resolution 07-24 Town of Lincoln to exceed the Levy Limit Nov 21\, Document 31
URL:https://lincolnadamscountywi.gov/event/notice-resolution-07-24-town-of-lincoln-to-exceed-the-levy-limit/
LOCATION:Lincoln Town Hall\, 2181 County Road G\, Grand Marsh\, WI\, 53936\, United States
END:VEVENT
END:VCALENDAR