BEGIN:VCALENDAR
VERSION:2.0
PRODID:-//Town of Lincoln - ECPv6.15.17.1//NONSGML v1.0//EN
CALSCALE:GREGORIAN
METHOD:PUBLISH
X-WR-CALNAME:Town of Lincoln
X-ORIGINAL-URL:https://lincolnadamscountywi.gov
X-WR-CALDESC:Events for Town of Lincoln
REFRESH-INTERVAL;VALUE=DURATION:PT1H
X-Robots-Tag:noindex
X-PUBLISHED-TTL:PT1H
BEGIN:VTIMEZONE
TZID:America/Chicago
BEGIN:DAYLIGHT
TZOFFSETFROM:-0600
TZOFFSETTO:-0500
TZNAME:CDT
DTSTART:20230312T080000
END:DAYLIGHT
BEGIN:STANDARD
TZOFFSETFROM:-0500
TZOFFSETTO:-0600
TZNAME:CST
DTSTART:20231105T070000
END:STANDARD
BEGIN:DAYLIGHT
TZOFFSETFROM:-0600
TZOFFSETTO:-0500
TZNAME:CDT
DTSTART:20240310T080000
END:DAYLIGHT
BEGIN:STANDARD
TZOFFSETFROM:-0500
TZOFFSETTO:-0600
TZNAME:CST
DTSTART:20241103T070000
END:STANDARD
BEGIN:DAYLIGHT
TZOFFSETFROM:-0600
TZOFFSETTO:-0500
TZNAME:CDT
DTSTART:20250309T080000
END:DAYLIGHT
BEGIN:STANDARD
TZOFFSETFROM:-0500
TZOFFSETTO:-0600
TZNAME:CST
DTSTART:20251102T070000
END:STANDARD
END:VTIMEZONE
BEGIN:VEVENT
DTSTART;TZID=America/Chicago:20240910T090000
DTEND;TZID=America/Chicago:20240910T230000
DTSTAMP:20260420T112058
CREATED:20240909T204138Z
LAST-MODIFIED:20240909T204221Z
UID:520-1725958800-1726009200@lincolnadamscountywi.gov
SUMMARY:Emergency meeting for the purpose of checking roads for damage by Charter Utility work.
DESCRIPTION:The Town of Lincoln will have an emergency meeting on September 10th\, 2024\, for the purpose of checking town roads for damage caused by Charter Communications Utility work. \n  \nPatty Nelson \nTown Clerk
URL:https://lincolnadamscountywi.gov/event/emergency-meeting-for-the-purpose-of-checking-roads-for-damage-by-charter/
LOCATION:Lincoln Town Hall\, 2181 County Road G\, Grand Marsh\, WI\, 53936\, United States
END:VEVENT
BEGIN:VEVENT
DTSTART;TZID=America/Chicago:20240919T100000
DTEND;TZID=America/Chicago:20240919T120000
DTSTAMP:20260420T112058
CREATED:20240916T163839Z
LAST-MODIFIED:20240916T163839Z
UID:525-1726740000-1726747200@lincolnadamscountywi.gov
SUMMARY:Open Book Meeting
DESCRIPTION:
URL:https://lincolnadamscountywi.gov/event/open-book-meeting/
LOCATION:Lincoln Town Hall\, 2181 County Road G\, Grand Marsh\, WI\, 53936\, United States
END:VEVENT
BEGIN:VEVENT
DTSTART;TZID=America/Chicago:20240919T190000
DTEND;TZID=America/Chicago:20240919T210000
DTSTAMP:20260420T112058
CREATED:20240816T024259Z
LAST-MODIFIED:20240918T191354Z
UID:510-1726772400-1726779600@lincolnadamscountywi.gov
SUMMARY:September 2024 Town Meeting
DESCRIPTION:                                                                      TOWN OF LINCOLN\n\n\n                                                                       Town Board Meeting\n\n\n\nThursday September 19\, 2024\, Meeting at 7pmThe Regular Town Board Meeting will be held at the Lincoln Town Hall\, 2181 \nCounty Road G. \nThe Board Meeting agenda will include discussion and possible action on the following items; the \nMinutes\, Treasurer’s report; payment of bills\, Zoning Administrator’s report; zoning issues\, Transfer \nSite issues\, Correspondence\, Road Issues\, Ambulance Service\, Training or other opportunities for \nClerk or Board Members. Discussion & possible action on the old LP tank. Discussion & possible \naction on the water filter. Discussion & possible action on improvements for the Town Hall. \nDiscussion &  possible action on a Resolution to raise the Town tax levy. Discussion & possible action on the Fire Protection Contract. \nPatricia D Nelson\, Clerk \nIn case of inclement weather\, please call 608-369-4433 for update on the meeting time and date.
URL:https://lincolnadamscountywi.gov/event/september-2024-town-meeting/
LOCATION:Lincoln Town Hall\, 2181 County Road G\, Grand Marsh\, WI\, 53936\, United States
END:VEVENT
END:VCALENDAR