BEGIN:VCALENDAR
VERSION:2.0
PRODID:-//Town of Lincoln - ECPv6.15.17.1//NONSGML v1.0//EN
CALSCALE:GREGORIAN
METHOD:PUBLISH
X-ORIGINAL-URL:https://lincolnadamscountywi.gov
X-WR-CALDESC:Events for Town of Lincoln
REFRESH-INTERVAL;VALUE=DURATION:PT1H
X-Robots-Tag:noindex
X-PUBLISHED-TTL:PT1H
BEGIN:VTIMEZONE
TZID:America/Chicago
BEGIN:DAYLIGHT
TZOFFSETFROM:-0600
TZOFFSETTO:-0500
TZNAME:CDT
DTSTART:20250309T080000
END:DAYLIGHT
BEGIN:STANDARD
TZOFFSETFROM:-0500
TZOFFSETTO:-0600
TZNAME:CST
DTSTART:20251102T070000
END:STANDARD
BEGIN:DAYLIGHT
TZOFFSETFROM:-0600
TZOFFSETTO:-0500
TZNAME:CDT
DTSTART:20260308T080000
END:DAYLIGHT
BEGIN:STANDARD
TZOFFSETFROM:-0500
TZOFFSETTO:-0600
TZNAME:CST
DTSTART:20261101T070000
END:STANDARD
BEGIN:DAYLIGHT
TZOFFSETFROM:-0600
TZOFFSETTO:-0500
TZNAME:CDT
DTSTART:20270314T080000
END:DAYLIGHT
BEGIN:STANDARD
TZOFFSETFROM:-0500
TZOFFSETTO:-0600
TZNAME:CST
DTSTART:20271107T070000
END:STANDARD
END:VTIMEZONE
BEGIN:VEVENT
DTSTART;TZID=America/Chicago:20260409T100000
DTEND;TZID=America/Chicago:20260409T140000
DTSTAMP:20260421T003259
CREATED:20260326T123322Z
LAST-MODIFIED:20260326T123530Z
UID:868-1775728800-1775743200@lincolnadamscountywi.gov
SUMMARY:Annual Town Road Inspection
DESCRIPTION:Board members will meet at the Town Hall\, 2181 County Road G\, and travel all the roads of the Town of Lincoln\, rating each road\, noting roads needing repairs\, and picking up tires\, etc. thrown on the edge of the roads.  Attendees (using their own vehicles) will travel behind the Board members.  The Board will return to the town hall to adjourn the meeting.  Results of the inspection will be considered/acted on at the April monthly board meeting.
URL:https://lincolnadamscountywi.gov/event/868/
LOCATION:Lincoln Town Hall\, 2181 County Road G\, Grand Marsh\, WI\, 53936\, United States
CATEGORIES:Lincoln Road Inspection
END:VEVENT
BEGIN:VEVENT
DTSTART;TZID=America/Chicago:20260416T180000
DTEND;TZID=America/Chicago:20260416T190000
DTSTAMP:20260421T003259
CREATED:20260325T121531Z
LAST-MODIFIED:20260325T121531Z
UID:863-1776362400-1776366000@lincolnadamscountywi.gov
SUMMARY:Town of Lincoln Annual Meeting
DESCRIPTION:The Town of Lincoln will hold the annual town meeting on Thursday\, April 16\, 2026 at the town hall located at 2181 County Road G. The meeting will begin at 6 PM. All town citizens are invited to attend. The monthly Board meeting will immediately follow the annual meeting. \nReports of road work and financial reports will be given by the Board. Other topics may be brought forward by town citizens. \nSubmitted by: Patricia D. Nelson\, Clerk
URL:https://lincolnadamscountywi.gov/event/town-of-lincoln-annual-meeting/
LOCATION:Lincoln Town Hall\, 2181 County Road G\, Grand Marsh\, WI\, 53936\, United States
CATEGORIES:Town of Lincoln Annual Meeting
END:VEVENT
BEGIN:VEVENT
DTSTART;TZID=America/Chicago:20260416T190000
DTEND;TZID=America/Chicago:20260416T210000
DTSTAMP:20260421T003259
CREATED:20260325T122244Z
LAST-MODIFIED:20260325T122244Z
UID:865-1776366000-1776373200@lincolnadamscountywi.gov
SUMMARY:Monthly Town Board Meeting
DESCRIPTION:The monthly Town of Lincoln Board meeting will immediately follow the annual meeting and will begin at approximately 7 PM.
URL:https://lincolnadamscountywi.gov/event/monthly-town-board-meeting/
CATEGORIES:Monthly Town Board Meeting
END:VEVENT
BEGIN:VEVENT
DTSTART;TZID=America/Chicago:20260506T190000
DTEND;TZID=America/Chicago:20260506T200000
DTSTAMP:20260421T003259
CREATED:20260421T042648Z
LAST-MODIFIED:20260421T043708Z
UID:875-1778094000-1778097600@lincolnadamscountywi.gov
SUMMARY:Town Plan Commission Public Hearing
DESCRIPTION:The Town Plan Commission will hold a public hearing to consider a rezone request for the western nine acres of the Elizabeth Greiner property in Section 25\, T17N\, R7E\, east 1/2 of the SW-SE1/4 from A1 Agricultural to R1 Residential. \nImmediately following the public hearing\, the Town Plan Commission will meet to discuss and possibly take action on this request.  Two or more Town Board members may be present at this hearing. \nFor more information\, call John Wilkinson\, Zoning Administrator\, at 608-459-0909.
URL:https://lincolnadamscountywi.gov/event/town-plan-commission-public-hearing/
LOCATION:Lincoln Town Hall\, 2181 County Road G\, Grand Marsh\, WI\, 53936\, United States
CATEGORIES:Town Plan Commission
END:VEVENT
BEGIN:VEVENT
DTSTART;TZID=America/Chicago:20260506T200000
DTEND;TZID=America/Chicago:20260506T203000
DTSTAMP:20260421T003259
CREATED:20260421T043405Z
LAST-MODIFIED:20260421T043405Z
UID:877-1778097600-1778099400@lincolnadamscountywi.gov
SUMMARY:Town Plan Commission Meeting
DESCRIPTION:Immediately following (approximately 8 PM) the public hearing on the Elizabeth Greiner property\, the Town Plan Commission will meet to discuss and possibly take action on the Greiner request. \nTwo or more Town Board members may also be present at this meeting. \nMore information may be obtained by calling Zoning Administrator John Wilkinson at 608-459-0909.
URL:https://lincolnadamscountywi.gov/event/town-plan-commission-meeting-2/
LOCATION:Lincoln Town Hall\, 2181 County Road G\, Grand Marsh\, WI\, 53936\, United States
CATEGORIES:Town Plan Commission
END:VEVENT
BEGIN:VEVENT
DTSTART;TZID=America/Chicago:20260521T190000
DTEND;TZID=America/Chicago:20260521T210000
DTSTAMP:20260421T003259
CREATED:20260421T044116Z
LAST-MODIFIED:20260421T044116Z
UID:881-1779390000-1779397200@lincolnadamscountywi.gov
SUMMARY:May 2026 Town Board Meeting
DESCRIPTION:
URL:https://lincolnadamscountywi.gov/event/may-2026-town-board-meeting/
LOCATION:Lincoln Town Hall\, 2181 County Road G\, Grand Marsh\, WI\, 53936\, United States
CATEGORIES:Monthly Town Board Meeting
END:VEVENT
END:VCALENDAR