BEGIN:VCALENDAR
VERSION:2.0
PRODID:-//Town of Lincoln - ECPv6.15.17.1//NONSGML v1.0//EN
CALSCALE:GREGORIAN
METHOD:PUBLISH
X-WR-CALNAME:Town of Lincoln
X-ORIGINAL-URL:https://lincolnadamscountywi.gov
X-WR-CALDESC:Events for Town of Lincoln
REFRESH-INTERVAL;VALUE=DURATION:PT1H
X-Robots-Tag:noindex
X-PUBLISHED-TTL:PT1H
BEGIN:VTIMEZONE
TZID:America/Chicago
BEGIN:DAYLIGHT
TZOFFSETFROM:-0600
TZOFFSETTO:-0500
TZNAME:CDT
DTSTART:20250309T080000
END:DAYLIGHT
BEGIN:STANDARD
TZOFFSETFROM:-0500
TZOFFSETTO:-0600
TZNAME:CST
DTSTART:20251102T070000
END:STANDARD
BEGIN:DAYLIGHT
TZOFFSETFROM:-0600
TZOFFSETTO:-0500
TZNAME:CDT
DTSTART:20260308T080000
END:DAYLIGHT
BEGIN:STANDARD
TZOFFSETFROM:-0500
TZOFFSETTO:-0600
TZNAME:CST
DTSTART:20261101T070000
END:STANDARD
BEGIN:DAYLIGHT
TZOFFSETFROM:-0600
TZOFFSETTO:-0500
TZNAME:CDT
DTSTART:20270314T080000
END:DAYLIGHT
BEGIN:STANDARD
TZOFFSETFROM:-0500
TZOFFSETTO:-0600
TZNAME:CST
DTSTART:20271107T070000
END:STANDARD
END:VTIMEZONE
BEGIN:VEVENT
DTSTART;TZID=America/Chicago:20260506T200000
DTEND;TZID=America/Chicago:20260506T203000
DTSTAMP:20260421T005816
CREATED:20260421T043405Z
LAST-MODIFIED:20260421T043405Z
UID:877-1778097600-1778099400@lincolnadamscountywi.gov
SUMMARY:Town Plan Commission Meeting
DESCRIPTION:Immediately following (approximately 8 PM) the public hearing on the Elizabeth Greiner property\, the Town Plan Commission will meet to discuss and possibly take action on the Greiner request. \nTwo or more Town Board members may also be present at this meeting. \nMore information may be obtained by calling Zoning Administrator John Wilkinson at 608-459-0909.
URL:https://lincolnadamscountywi.gov/event/town-plan-commission-meeting-2/
LOCATION:Lincoln Town Hall\, 2181 County Road G\, Grand Marsh\, WI\, 53936\, United States
CATEGORIES:Town Plan Commission
END:VEVENT
BEGIN:VEVENT
DTSTART;TZID=America/Chicago:20260521T190000
DTEND;TZID=America/Chicago:20260521T210000
DTSTAMP:20260421T005816
CREATED:20260421T044116Z
LAST-MODIFIED:20260421T044116Z
UID:881-1779390000-1779397200@lincolnadamscountywi.gov
SUMMARY:May 2026 Town Board Meeting
DESCRIPTION:
URL:https://lincolnadamscountywi.gov/event/may-2026-town-board-meeting/
LOCATION:Lincoln Town Hall\, 2181 County Road G\, Grand Marsh\, WI\, 53936\, United States
CATEGORIES:Monthly Town Board Meeting
END:VEVENT
END:VCALENDAR