BEGIN:VCALENDAR
VERSION:2.0
PRODID:-//Town of Lincoln - ECPv6.15.17.1//NONSGML v1.0//EN
CALSCALE:GREGORIAN
METHOD:PUBLISH
X-ORIGINAL-URL:https://lincolnadamscountywi.gov
X-WR-CALDESC:Events for Town of Lincoln
REFRESH-INTERVAL;VALUE=DURATION:PT1H
X-Robots-Tag:noindex
X-PUBLISHED-TTL:PT1H
BEGIN:VTIMEZONE
TZID:America/Chicago
BEGIN:DAYLIGHT
TZOFFSETFROM:-0600
TZOFFSETTO:-0500
TZNAME:CDT
DTSTART:20240310T080000
END:DAYLIGHT
BEGIN:STANDARD
TZOFFSETFROM:-0500
TZOFFSETTO:-0600
TZNAME:CST
DTSTART:20241103T070000
END:STANDARD
BEGIN:DAYLIGHT
TZOFFSETFROM:-0600
TZOFFSETTO:-0500
TZNAME:CDT
DTSTART:20250309T080000
END:DAYLIGHT
BEGIN:STANDARD
TZOFFSETFROM:-0500
TZOFFSETTO:-0600
TZNAME:CST
DTSTART:20251102T070000
END:STANDARD
BEGIN:DAYLIGHT
TZOFFSETFROM:-0600
TZOFFSETTO:-0500
TZNAME:CDT
DTSTART:20260308T080000
END:DAYLIGHT
BEGIN:STANDARD
TZOFFSETFROM:-0500
TZOFFSETTO:-0600
TZNAME:CST
DTSTART:20261101T070000
END:STANDARD
END:VTIMEZONE
BEGIN:VEVENT
DTSTART;TZID=America/Chicago:20250821T190000
DTEND;TZID=America/Chicago:20250821T210000
DTSTAMP:20260423T123703
CREATED:20250618T151729Z
LAST-MODIFIED:20250821T190703Z
UID:754-1755802800-1755810000@lincolnadamscountywi.gov
SUMMARY:AUGUST 2025 REGULAR TOWN MEETING
DESCRIPTION:  TOWN OF LINCOLN\nREGULAR TOWN BOARD MEETING                                                       Thursday August 21\, 2025 \nThe Regular Town Board Meeting will be held at the Lincoln Town Hall\, 2181 County Road G\, \nThursday\, August 21\, 2025\, at7pm. \nThe Board Meeting agenda will include discussion and possible action on the following items; the \nMinutes\, Treasurer’s report; payment of bills\, Zoning Administrator’s report; zoning issues\, Transfer \nSite issues\, correspondence\, road issues\, Ambulance Service\, training or other opportunities for \nClerk or Board Members. Discussion and possible action on a more efficient layout for the Transfer \nSite. Discussion and possible action on the Town Hall parking lot. Discussion and possible action on \nthe applications for Town Treasurer. \nPatricia D Nelson\, Clerk
URL:https://lincolnadamscountywi.gov/event/august-2025-regular-town-meeting/
LOCATION:Lincoln Town Hall\, 2181 County Road G\, Grand Marsh\, WI\, 53936\, United States
END:VEVENT
END:VCALENDAR