BEGIN:VCALENDAR
VERSION:2.0
PRODID:-//Town of Lincoln - ECPv6.15.17.1//NONSGML v1.0//EN
CALSCALE:GREGORIAN
METHOD:PUBLISH
X-ORIGINAL-URL:https://lincolnadamscountywi.gov
X-WR-CALDESC:Events for Town of Lincoln
REFRESH-INTERVAL;VALUE=DURATION:PT1H
X-Robots-Tag:noindex
X-PUBLISHED-TTL:PT1H
BEGIN:VTIMEZONE
TZID:America/Chicago
BEGIN:DAYLIGHT
TZOFFSETFROM:-0600
TZOFFSETTO:-0500
TZNAME:CDT
DTSTART:20230312T080000
END:DAYLIGHT
BEGIN:STANDARD
TZOFFSETFROM:-0500
TZOFFSETTO:-0600
TZNAME:CST
DTSTART:20231105T070000
END:STANDARD
BEGIN:DAYLIGHT
TZOFFSETFROM:-0600
TZOFFSETTO:-0500
TZNAME:CDT
DTSTART:20240310T080000
END:DAYLIGHT
BEGIN:STANDARD
TZOFFSETFROM:-0500
TZOFFSETTO:-0600
TZNAME:CST
DTSTART:20241103T070000
END:STANDARD
BEGIN:DAYLIGHT
TZOFFSETFROM:-0600
TZOFFSETTO:-0500
TZNAME:CDT
DTSTART:20250309T080000
END:DAYLIGHT
BEGIN:STANDARD
TZOFFSETFROM:-0500
TZOFFSETTO:-0600
TZNAME:CST
DTSTART:20251102T070000
END:STANDARD
END:VTIMEZONE
BEGIN:VEVENT
DTSTART;VALUE=DATE:20241017
DTEND;VALUE=DATE:20241018
DTSTAMP:20260420T112129
CREATED:20241030T190849Z
LAST-MODIFIED:20241030T191556Z
UID:631-1729123200-1729209599@lincolnadamscountywi.gov
SUMMARY:Resolution 05.24 Decreasing the Election Board
DESCRIPTION:
URL:https://lincolnadamscountywi.gov/event/resolution-05-24/
LOCATION:Lincoln Town Hall\, 2181 County Road G\, Grand Marsh\, WI\, 53936\, United States
END:VEVENT
BEGIN:VEVENT
DTSTART;TZID=America/Chicago:20241017T140000
DTEND;TZID=America/Chicago:20241017T143000
DTSTAMP:20260420T112129
CREATED:20241030T191004Z
LAST-MODIFIED:20241030T191514Z
UID:634-1729173600-1729175400@lincolnadamscountywi.gov
SUMMARY:Resolution 06.24 Town Board To Propose Exceeding Levy Limit
DESCRIPTION:
URL:https://lincolnadamscountywi.gov/event/resolution-06-24/
LOCATION:WI
END:VEVENT
BEGIN:VEVENT
DTSTART;TZID=America/Chicago:20241017T190000
DTEND;TZID=America/Chicago:20241017T210000
DTSTAMP:20260420T112129
CREATED:20240816T024404Z
LAST-MODIFIED:20241016T195755Z
UID:512-1729191600-1729198800@lincolnadamscountywi.gov
SUMMARY:October 2024 Town Meeting
DESCRIPTION:   TOWN OF LINCOLN\nTown Board Meeting\nThursday October 17\, 2024\, Meeting at 7pm \nThe Regular Town Board Meeting will be held at the Lincoln Town Hall\, 2181 County Road G. \nThe Board Meeting agenda will include discussion and possible action on the following items; the \nMinutes\, Treasurer’s report; payment of bills\, Zoning Administrator’s report; zoning issues\, Transfer \nSite issues\, Correspondence\, Road Issues\, Ambulance Service\, Training or other opportunities for \nClerk or Board Members. Discussion & possible action on the winter contract. \nDiscussion &  possible action on Resolution #05-24 to raise the Town tax levy. Discussion & \npossible action on the Fire Protection Contract. Discussion & possible action on Resolution #06-24 \nto decrease the November 5th\, 2024 election board. Discussion & Possible action on the New Chester \nFire Department Contract. \nPatricia D Nelson\, Clerk \nIn case of inclement weather\, please call 608-369-4433 for update on the meeting time and date.
URL:https://lincolnadamscountywi.gov/event/october-2024-town-meeting/
LOCATION:Lincoln Town Hall\, 2181 County Road G\, Grand Marsh\, WI\, 53936\, United States
END:VEVENT
END:VCALENDAR